BEGIN:VCALENDAR
VERSION:2.0
PRODID:-//ChamberMaster//Event Calendar 2.0//EN
METHOD:PUBLISH
X-PUBLISHED-TTL:P3D
REFRESH-INTERVAL:P3D
CALSCALE:GREGORIAN
BEGIN:VEVENT
DTSTART:20161115T220000Z
DTEND:20161116T003000Z
X-MICROSOFT-CDO-ALLDAYEVENT:FALSE
SUMMARY:13th Annual Taste of Ashland
DESCRIPTION:13th Annual Taste of Ashland\n\nby the Ashland County Cancer Association  \n\nTickets on sale at Irwin's\, Geyer Hawkins & Buehler's \n\n \n\n"Supporting the Cause by Helping the Individual"\n\nVaries food vendors offering a "taste of their best"\, raffle and silent auction
X-ALT-DESC;FMTTYPE=text/html:<span style="font-size:24px\;"><strong>13th Annual Taste of Ashland</strong></span><br />\nby the Ashland County Cancer Association &nbsp\;<br />\nTickets on sale at Irwin&#39\;s\, Geyer Hawkins &amp\; Buehler&#39\;s&nbsp\;<br />\n&nbsp\;<br />\n&quot\;Supporting the Cause by Helping the Individual&quot\;<br />\nVaries food vendors offering a &quot\;taste of their best&quot\;\, raffle and silent auction
LOCATION:Park Street Brethren Church - 619 Park Street
UID:e.1651.4197
SEQUENCE:3
DTSTAMP:20260420T103852Z
URL:https://members.ashlandoh.com/events/details/13th-annual-taste-of-ashland-4197
END:VEVENT

END:VCALENDAR
