BEGIN:VCALENDAR
VERSION:2.0
PRODID:-//ChamberMaster//Event Calendar 2.0//EN
METHOD:PUBLISH
X-PUBLISHED-TTL:P3D
REFRESH-INTERVAL:P3D
CALSCALE:GREGORIAN
BEGIN:VEVENT
DTSTART:20120605T153000Z
DTEND:20120605T170000Z
X-MICROSOFT-CDO-ALLDAYEVENT:FALSE
SUMMARY:2012 Annual Meeting Luncheon 6/5/12
DESCRIPTION:
X-ALT-DESC;FMTTYPE=text/html:
LOCATION:Ashland University
UID:e.1651.168
SEQUENCE:3
DTSTAMP:20260424T051137Z
URL:https://members.ashlandoh.com/events/details/2012-annual-meeting-luncheon-6-5-12-06-05-2012-168
END:VEVENT

END:VCALENDAR
