BEGIN:VCALENDAR
VERSION:2.0
PRODID:-//ChamberMaster//Event Calendar 2.0//EN
METHOD:PUBLISH
X-PUBLISHED-TTL:P3D
REFRESH-INTERVAL:P3D
CALSCALE:GREGORIAN
BEGIN:VEVENT
DTSTART:20120719T203000Z
DTEND:20120719T220000Z
X-MICROSOFT-CDO-ALLDAYEVENT:FALSE
SUMMARY:2012 Business Spotlight - Advantage Marketing 7/19/12
DESCRIPTION:
X-ALT-DESC;FMTTYPE=text/html:
LOCATION:Active Metal\, Inc.
UID:e.1651.215
SEQUENCE:3
DTSTAMP:20260424T051244Z
URL:https://members.ashlandoh.com/events/details/2012-business-spotlight-advantage-marketing-7-19-12-07-19-2012-215
END:VEVENT

END:VCALENDAR
