BEGIN:VCALENDAR
VERSION:2.0
PRODID:-//ChamberMaster//Event Calendar 2.0//EN
METHOD:PUBLISH
X-PUBLISHED-TTL:P3D
REFRESH-INTERVAL:P3D
CALSCALE:GREGORIAN
BEGIN:VEVENT
DTSTART:20120927T203000Z
DTEND:20120927T220000Z
X-MICROSOFT-CDO-ALLDAYEVENT:FALSE
SUMMARY:2012 Business Spotlight - Cowen Trucking 9/27/12
DESCRIPTION:
X-ALT-DESC;FMTTYPE=text/html:
LOCATION:Cowen Logistics\, Inc.
UID:e.1651.238
SEQUENCE:3
DTSTAMP:20260424T001055Z
URL:https://members.ashlandoh.com/events/details/2012-business-spotlight-cowen-trucking-9-27-12-09-27-2012-238
END:VEVENT

END:VCALENDAR
