BEGIN:VCALENDAR
VERSION:2.0
PRODID:-//ChamberMaster//Event Calendar 2.0//EN
METHOD:PUBLISH
X-PUBLISHED-TTL:P3D
REFRESH-INTERVAL:P3D
CALSCALE:GREGORIAN
BEGIN:VEVENT
DTSTART:20120410T150000Z
DTEND:20120410T153000Z
X-MICROSOFT-CDO-ALLDAYEVENT:FALSE
SUMMARY:2012 Business Spotlight - Kenworth of Ashland 4/10/12
DESCRIPTION:
X-ALT-DESC;FMTTYPE=text/html:
LOCATION:Kenworth of Ashland
UID:e.1651.211
SEQUENCE:3
DTSTAMP:20260424T110509Z
URL:https://members.ashlandoh.com/events/details/2012-business-spotlight-kenworth-of-ashland-4-10-12-04-10-2012-211
END:VEVENT

END:VCALENDAR
