BEGIN:VCALENDAR
VERSION:2.0
PRODID:-//ChamberMaster//Event Calendar 2.0//EN
METHOD:PUBLISH
X-PUBLISHED-TTL:P3D
REFRESH-INTERVAL:P3D
CALSCALE:GREGORIAN
BEGIN:VEVENT
DTSTART:20160709T140000Z
DTEND:20160709T200000Z
X-MICROSOFT-CDO-ALLDAYEVENT:FALSE
SUMMARY:2016 Festival in the Park - Associated Charities
DESCRIPTION:Associated Charities\n\n5th Annual Festival in the Park\n\nSaturday\, July 9\, 2016\n\n10:00 am - 4:00 pm\n\nSouth Street Park (beside our building)\n\n\n\nCome and enjoy a day of fun including a bake sale\, raffle\, balloons\, great food and lots of prizes for the kids!\n\n\n\nDONATIONS benefit - J.U.S.S.T for Kids - Back to School Program\n\nCLICK HERE FOR A FLYER
X-ALT-DESC;FMTTYPE=text/html:<strong>Associated Charities</strong><br />\n5th Annual Festival in the Park<br />\nSaturday\, July 9\, 2016<br />\n10:00 am - 4:00 pm<br />\nSouth Street Park (beside our building)<br />\n<br />\nCome and enjoy a day of fun including a bake sale\, raffle\, balloons\, great food and lots of prizes for the kids!<br />\n<br />\nDONATIONS benefit - J.U.S.S.T for Kids - Back to School Program<br />\n<strong><a href="https://chambermaster.blob.core.windows.net/userfiles/UserFiles/chambers/1651/File/Member_News/FestivalintheParkflyer2016.pdf" target="_blank"><span style="color:#006400\;">CLICK HERE FOR A FLYER</span></a></strong><br />\n&nbsp\;
LOCATION:South Street Park Ashland OH 44805
UID:e.1651.4137
SEQUENCE:3
DTSTAMP:20260420T173702Z
URL:https://members.ashlandoh.com/events/details/2016-festival-in-the-park-associated-charities-07-09-2016-4137
END:VEVENT

END:VCALENDAR
