BEGIN:VCALENDAR
VERSION:2.0
PRODID:-//ChamberMaster//Event Calendar 2.0//EN
METHOD:PUBLISH
X-PUBLISHED-TTL:P3D
REFRESH-INTERVAL:P3D
CALSCALE:GREGORIAN
BEGIN:VEVENT
DTSTART:20140809T120000Z
DTEND:20140809T210000Z
X-MICROSOFT-CDO-ALLDAYEVENT:FALSE
SUMMARY:8th Annual Lincoln Highway Car Show - CVB 8-9-14
DESCRIPTION:Greetings! You have chosen to be a sponsor for our\n\n8th Annual Lincoln Highway Car Show.\n\nThanks for your continued support of both the Ashland Area Convention and Visitors bureau and our community!
X-ALT-DESC;FMTTYPE=text/html:Greetings! You have chosen to be a sponsor for our<br />\n8th Annual Lincoln Highway Car Show.<br />\nThanks for your continued support of both the Ashland Area Convention and Visitors bureau and our community!
LOCATION:Ashland CVB 211 Claremont Ave.\, Ashland OH 44805
UID:e.1651.1469
SEQUENCE:3
DTSTAMP:20260422T092529Z
URL:https://members.ashlandoh.com/events/details/8th-annual-lincoln-highway-car-show-cvb-8-9-14-08-09-2014-1469
END:VEVENT

END:VCALENDAR
