BEGIN:VCALENDAR
VERSION:2.0
PRODID:-//ChamberMaster//Event Calendar 2.0//EN
METHOD:PUBLISH
X-PUBLISHED-TTL:P3D
REFRESH-INTERVAL:P3D
CALSCALE:GREGORIAN
BEGIN:VEVENT
DTSTART:20170615T210000Z
DTEND:20170616T000000Z
X-MICROSOFT-CDO-ALLDAYEVENT:FALSE
SUMMARY:"A Night At the Schine's"
DESCRIPTION:Leadership Ashland Alumni Association invites you to join them for "A Night At The Schine's" Fundraiser for the Ashland Schine's Theatre Organization. The event includes appetizers and beverages provided by The Happy Grape.  Trivia\, 50/50 raffle\, tours and a progress update will be provided throughout the evening.\n\nTickets are limited and available on a first come first served basis. Be one of the select few to participate in this fun evening!  To secure your ticket - follow this link to the Schine's ticketing system.\n\n \n\nWe'd love to have you share this Schine's Fundraiser Event on your Facebook page: https://www.facebook.com/ashlandschines/\n\nLooking forward to seeing you there!\n\n\n\nAll proceeds\, in excess of the cost of the event\, will be donated directly to the Ashland Schine's Theatre Organization to assist with ongoing operations and capital improvement costs.
X-ALT-DESC;FMTTYPE=text/html:<h4><strong>Leadership Ashland Alumni Association invites you to join them for &quot\;A Night At The Schine&#39\;s&quot\; Fundraiser for the Ashland Schine&#39\;s Theatre Organization. The event includes appetizers and beverages provided by The Happy Grape.&nbsp\; Trivia\, 50/50 raffle\, tours and a progress update will be provided throughout the evening.</strong></h4>\n\n<p><strong>Tickets are limited and available on a first come first served basis</strong>. Be one of the select few to participate in this fun evening!&nbsp\; <strong>To secure your ticket - follow this link to the <span style="font-size:20px\;"><a dir="ltr" href="https://www.eventbrite.com/e/a-night-at-the-schines-tickets-34894468294" onclick="window.open(this.href\, 'SchinesTicketingSystem'\, 'resizable=yes\,status=yes\,location=yes\,toolbar=yes\,menubar=yes\,fullscreen=no\,scrollbars=yes\,dependent=yes')\; return false\;">Schine&#39\;s ticketing system</a>.</span></strong><br />\n&nbsp\;<br />\nWe&#39\;d love to have you <strong>share this Schine&#39\;s Fundraiser Event on your </strong><strong>Facebook page</strong>: <a href="https://www.facebook.com/ashlandschines/">https://www.facebook.com/ashlandschines/</a></p>\n\n<p><strong>Looking forward to seeing you there!</strong><br />\n<br />\nAll proceeds\, <em>in excess of the cost of the event</em>\, will be donated directly to the Ashland Schine&#39\;s Theatre Organization to assist with ongoing operations and capital improvement costs.</p>\n
LOCATION:Ashland Schine's Theatre Is located at 216 Center Street
UID:e.1651.5312
SEQUENCE:3
DTSTAMP:20260419T223305Z
URL:https://members.ashlandoh.com/events/details/a-night-at-the-schine-s-5312
END:VEVENT

END:VCALENDAR
