BEGIN:VCALENDAR
VERSION:2.0
PRODID:-//ChamberMaster//Event Calendar 2.0//EN
METHOD:PUBLISH
X-PUBLISHED-TTL:P3D
REFRESH-INTERVAL:P3D
CALSCALE:GREGORIAN
BEGIN:VEVENT
DTSTART:20141031T130000Z
DTEND:20141031T140000Z
X-MICROSOFT-CDO-ALLDAYEVENT:FALSE
SUMMARY:Aaron's Inc. - Ribbon Cutting 10-31-14
DESCRIPTION:COME AND CELEBRATE WITH US AT OUR RIBBON CUTTING AND GRAND OPENING!\n\n\n\nAaron's Inc.\n\n25 Amberwood Parkway - Suite 1\n\nAshland OH 44805
X-ALT-DESC;FMTTYPE=text/html:<span style="color:#B22222\;"><strong>COME AND CELEBRATE WITH US AT OUR RIBBON CUTTING AND GRAND OPENING!</strong></span><br />\n<br />\n<strong>Aaron&#39\;s Inc.<br />\n25 Amberwood Parkway - Suite 1<br />\nAshland OH 44805</strong>
LOCATION:25 Amberwood Pkwy Suite 1 Ashland OH 44805
UID:e.1651.1618
SEQUENCE:3
DTSTAMP:20260422T060632Z
URL:https://members.ashlandoh.com/events/details/aaron-s-inc-ribbon-cutting-10-31-14-10-31-2014-1618
END:VEVENT

END:VCALENDAR
