BEGIN:VCALENDAR
VERSION:2.0
PRODID:-//ChamberMaster//Event Calendar 2.0//EN
METHOD:PUBLISH
X-PUBLISHED-TTL:P3D
REFRESH-INTERVAL:P3D
CALSCALE:GREGORIAN
BEGIN:VEVENT
DTSTART:20150225T123000Z
DTEND:20150225T140000Z
X-MICROSOFT-CDO-ALLDAYEVENT:FALSE
SUMMARY:Advancing Industry Community Conversation
DESCRIPTION:YOU ARE INVITED TO\n\nOUR "COMMUNITY CONVERSATION"\n\nHosted by: Ashland's Advancing Industry Committee\n\n\n\nEvent Details:\n\n\n	What: Community Conversation - Industry & Workforce\n	When: Wednesday\, February 25\, 2015\n	Time: 7:30 - 9:00 am\n	Place: Ball Bounce & Sport / Hedstrom\, 1 Hedstrom Drive\, Ashland OH\n	Cost: Free event - registration required\n\nCLICK HERE FOR AN EVENT SCHEDULE
X-ALT-DESC;FMTTYPE=text/html:<span style="color:#006699\;"><strong><span style="font-size: 14px\;"><span style="font-size: 24px\;">YOU ARE INVITED TO</span><br />\nOUR &quot\;COMMUNITY CONVERSATION&quot\;</span></strong></span><br />\n<em>Hosted by: Ashland&#39\;s Advancing Industry Committee</em><br />\n<br />\n<u><strong>Event Details:</strong></u>\n\n<ul>\n	<li>What: Community Conversation - Industry &amp\; Workforce</li>\n	<li>When: Wednesday\, February 25\, 2015</li>\n	<li>Time: 7:30 - 9:00 am</li>\n	<li>Place: Ball Bounce &amp\; Sport / Hedstrom\, 1 Hedstrom Drive\, Ashland OH</li>\n	<li>Cost: Free event - registration required</li>\n</ul>\n<a href="http://cloud.chambermaster.com/userfiles/UserFiles/chambers/1651/File/Events/Advancing_Industry/ADVANCINGINDUSTRY-2-25-15eventflyer-final.pdf" target="_blank"><strong>CLICK HERE FOR AN EVENT SCHEDULE</strong></a>
LOCATION:Ball Bounce & Sport / Hedstrom 1 Hedstrom Drive\, Ashland (Old Walmart location)
UID:e.1651.2201
SEQUENCE:3
DTSTAMP:20260421T231829Z
URL:https://members.ashlandoh.com/events/details/advancing-industry-community-conversation-02-25-2015-2201
END:VEVENT

END:VCALENDAR
