BEGIN:VCALENDAR
VERSION:2.0
PRODID:-//ChamberMaster//Event Calendar 2.0//EN
METHOD:PUBLISH
X-PUBLISHED-TTL:P3D
REFRESH-INTERVAL:P3D
CALSCALE:GREGORIAN
BEGIN:VEVENT
DTSTART:20140930T113000Z
DTEND:20140930T130000Z
X-MICROSOFT-CDO-ALLDAYEVENT:FALSE
SUMMARY:Affordable Care Act Seminar
DESCRIPTION:THE AFFORDABLE CARE ACT\n\nYou are invited to an informational meeting on this law and how it affects you and your business.
X-ALT-DESC;FMTTYPE=text/html:<span style="color:#006400\;"><span style="font-size: 14px\;"><strong>THE AFFORDABLE CARE ACT</strong></span></span><br />\nYou are invited to an informational meeting on this law and how it affects you and your business.
LOCATION:Salvation Army Kroc Center 527 E. Liberty St.\, Ashland OH 44805
UID:e.1651.1537
SEQUENCE:3
DTSTAMP:20260422T073624Z
URL:https://members.ashlandoh.com/events/details/affordable-care-act-seminar-09-30-2014-1537
END:VEVENT

END:VCALENDAR
