BEGIN:VCALENDAR
VERSION:2.0
PRODID:-//ChamberMaster//Event Calendar 2.0//EN
METHOD:PUBLISH
X-PUBLISHED-TTL:P3D
REFRESH-INTERVAL:P3D
CALSCALE:GREGORIAN
BEGIN:VEVENT
DTSTART:20150407T120000Z
DTEND:20150407T130000Z
X-MICROSOFT-CDO-ALLDAYEVENT:FALSE
SUMMARY:AMBASSADORS APR 2015
DESCRIPTION:YOU ARE AN AMBASSADOR OF THE CHAMBER\n\n\n\nMission Statement: To ensure and enhance membership recruitment and retention by acting as the liaison to the Chamber membership.
X-ALT-DESC;FMTTYPE=text/html:<span style="font-size:14px\;"><span style="font-family: arial\;"><span style="font-size:16px\;"><span style="color: rgb(0\, 0\, 205)\;"><strong>YOU ARE AN AMBASSADOR OF THE CHAMBER</strong></span></span><br />\n<br />\n<strong><span style="font-size:12px\;">Mission Statement: To ensure and enhance membership recruitment and retention by acting as the liaison to the Chamber membership.</span></strong></span></span><br />\n<br />\n&nbsp\;
LOCATION:Downtown Perk 145 W Main St. Ashland\, OH 44805
UID:e.1651.1573
SEQUENCE:3
DTSTAMP:20260421T201644Z
URL:https://members.ashlandoh.com/events/details/ambassadors-apr-2015-04-07-2015-1573
END:VEVENT

END:VCALENDAR
