BEGIN:VCALENDAR
VERSION:2.0
PRODID:-//ChamberMaster//Event Calendar 2.0//EN
METHOD:PUBLISH
X-PUBLISHED-TTL:P3D
REFRESH-INTERVAL:P3D
CALSCALE:GREGORIAN
BEGIN:VEVENT
DTSTART:20141104T130000Z
DTEND:20141104T140000Z
X-MICROSOFT-CDO-ALLDAYEVENT:FALSE
SUMMARY:AMBASSADORS November 2014
DESCRIPTION:YOU ARE AN AMBASSADOR OF THE CHAMBER\n\n\n\nMission Statement: To ensure and enhance membership recruitment and retention by acting as the liaison to the Chamber membership.\n\n\n\nAMBASSADOR COMMITTEE MEETING INFO:\n\nDATE:    1st Tuesday of the Month\n\nTIME:     8:00 - 9:00 am\n\nPLACE:  Kingston of Ashland
X-ALT-DESC;FMTTYPE=text/html:<span style="font-size:14px\;"><span style="font-family: arial\;"><span style="font-size:16px\;"><span style="color: rgb(0\, 0\, 205)\;"><strong>YOU ARE AN AMBASSADOR OF THE CHAMBER</strong></span></span><br />\n<br />\n<strong><span style="font-size:12px\;">Mission Statement: To ensure and enhance membership recruitment and retention by acting as the liaison to the Chamber membership.</span></strong></span></span><br />\n<br />\n<u><strong>AMBASSADOR COMMITTEE MEETING INFO:</strong></u><br />\n<em>DATE:&nbsp\;&nbsp\;&nbsp\; 1st Tuesday of the Month<br />\nTIME:&nbsp\;&nbsp\;&nbsp\;&nbsp\; 8:00 - 9:00 am<br />\nPLACE:&nbsp\; Kingston of Ashland</em>
LOCATION:Downtown Perk & Dessert Oasis 145 W Main St.\, Ashland\, OH 44805
UID:e.1651.1376
SEQUENCE:3
DTSTAMP:20260422T044133Z
URL:https://members.ashlandoh.com/events/details/ambassadors-november-2014-11-04-2014-1376
END:VEVENT

END:VCALENDAR
