BEGIN:VCALENDAR
VERSION:2.0
PRODID:-//ChamberMaster//Event Calendar 2.0//EN
METHOD:PUBLISH
X-PUBLISHED-TTL:P3D
REFRESH-INTERVAL:P3D
CALSCALE:GREGORIAN
BEGIN:VEVENT
DTSTART:20171103T150000Z
DTEND:20171103T170000Z
X-MICROSOFT-CDO-ALLDAYEVENT:FALSE
SUMMARY:Annual Meeting - November 3\, 2017
DESCRIPTION:CHAMBER ANNUAL MEETING\nOn Friday\, November 3\, 2017 the Ashland Area Chamber of Commerce will hold it's Annual Meeting. Barbie Lange - Chamber President/CEO\, and current board members will conduct the meeting and speak about Chamber business\, past accomplishments and the plan/vision for the future of the Chamber. Our Keynote Speaker will be Donald Wayne McLeod with Perceptionology.\n\nDivisional highlights will be presented by the Ashland Area Convention and Visitor's Bureau - Amy Daubenspeck - Executive Director\, Ashland Area Safety Council - Melissa Martin - Program Coordinator and Leadership Ashland - Ginny Telego - Executive Director. \n\nOne highlight of the Luncheon will be two "Spirit of the Chamber" awards (Individual & Business) given for recognition of exemplary dedication and service.  The recipients will have demonstrated leadership in volunteerism\, energy\, creativity and giving.  Additionally\, they will have assisted the Chamber in keeping strong our traditions\, while at the same time taking risks to make a difference in the community.\n\n\n\nThe Chamber will also be handing out its Fourth Annual "Jim Lingenfelter Service Award" to an individual who emulate the characteristics of Jim Lingenfelter and continue to follow in his footsteps to make Ashland County a better place live\, work\, and raise a family. Jim was a perfect example of servant leadership. His passion\, dedication\, and positive attitude spanned the entire county as he worked to make connections and bring organizations together for the good of the Ashland Area.\n\n \n\nCLICK HERE FOR SPONSORSHIP / PARTICIPATION  INFORMATION
X-ALT-DESC;FMTTYPE=text/html:<span style="color:#B22222\;"><span style="font-size: 18px\;"><strong>CHAMBER ANNUAL MEETING</strong></span></span>\n<p style="text-align: justify\;"><strong>On Friday\, November 3\, 2017 the Ashland Area Chamber of Commerce will hold it&#39\;s Annual Meeting. </strong><strong>Barbie Lange - Chamber President/CEO\, and current board members will conduct the meeting and speak about Chamber business\, past accomplishments and the plan/vision for the future of the Chamber. Our Keynote Speaker will be Donald Wayne McLeod with Perceptionology.</strong></p>\n\n<p style="text-align: justify\;"><span style="color: rgb(0\, 104\, 71)\;"><strong>Divisional highlights will be presented&nbsp\;by&nbsp\;the Ashland Area Convention and Visitor&#39\;s Bureau - </strong><em>Amy Daubenspeck - Executive Director</em><strong>\, Ashland Area Safety Council - </strong><em>Melissa Martin - Program Coordinato</em>r<strong> and Leadership Ashland - </strong><em>Ginny Telego - Executive Director</em><strong>. </strong></span></p>\n\n<p style="text-align: justify\;"><strong>One&nbsp\;highlight of the Luncheon will be two <span style="color: rgb(189\, 102\, 10)\;">&quot\;Spirit of the Chamber&quot\;</span> awards (</strong><em>Individual &amp\; Business</em><strong>) given for recognition of exemplary dedication and service.&nbsp\; The recipients will have demonstrated leadership in volunteerism\, energy\, creativity and giving.&nbsp\; Additionally\, they will have assisted the Chamber in keeping strong our traditions\, while at the same time taking risks to make a difference in the community.<br />\n<br />\nThe Chamber will also be handing out its Fourth Annual &quot\;<span style="color: rgb(139\, 69\, 19)\;">Jim Lingenfelter Service Award</span>&quot\; to an individual who emulate the characteristics of Jim Lingenfelter and continue to follow in his footsteps to make Ashland County a better place live\, work\, and raise a family.</strong> <strong>Jim was a perfect example of servant leadership. His passion\, dedication\, and positive attitude spanned the entire county as he worked to make connections and bring organizations together for the good of the Ashland Area.</strong><br />\n&nbsp\;</p>\n\n<p><strong><a href="https://chambermaster.blob.core.windows.net/userfiles/UserFiles/chambers/1651/File/Annual_Meeting/2017_Annual_Meeting/2017AnnualMeetingRegistrationandSponsorships.pdf" target="_blank"><span style="color:#000080\;">CLICK HERE</span></a><span style="color:#000080\;"> </span>FOR SPONSORSHIP / PARTICIPATION&nbsp\; INFORMATION</strong></p>\n
LOCATION:Ashland University Convocation Center 638 Jefferson St. Ashland\, OH 44805
UID:e.1651.4203
SEQUENCE:3
DTSTAMP:20260419T134822Z
URL:https://members.ashlandoh.com/events/details/annual-meeting-november-3-2017-4203
END:VEVENT

END:VCALENDAR
