BEGIN:VCALENDAR
VERSION:2.0
PRODID:-//ChamberMaster//Event Calendar 2.0//EN
METHOD:PUBLISH
X-PUBLISHED-TTL:P3D
REFRESH-INTERVAL:P3D
CALSCALE:GREGORIAN
BEGIN:VEVENT
DTSTART:20141106T163000Z
DTEND:20141106T180000Z
X-MICROSOFT-CDO-ALLDAYEVENT:FALSE
SUMMARY:Annual Meeting - November 6\, 2014
DESCRIPTION:CHAMBER ANNUAL MEETING\n\n       Thursday\, November 6\, 2014\n\n       11:30 am - 1:00 pm\n\n       Ashland University Convocation Center\n\n\n\nOn Thursday\, November 6\, 2014 the Ashland Area Chamber of Commerce will hold it's Annual Meeting. Barbie Lange - Chamber President/CEO\, and current board members will conduct the meeting and speak about Chamber business\, past accomplishments and the plan/vision for the future of the Chamber. \n\nDivisional highlights from the Ashland Area Convention and Visitor's Bureau\, Ashland Area Safety Council and Leadership Ashland  will be provided in the event program along with information on all those businesses who have contributed to the Chamber through sponsorships.\n\nOne highlight of the Luncheon will be two "Spirit of the Chamber" awards (Individual & Business) given for recognition of exemplary dedication and service.  The recipients will have demonstrated leadership in volunteerism\, energy\, creativity and giving.  Additionally\, they will have assisted the Chamber in keeping strong our traditions\, while at the same time taking risks to make a difference in the community.\n\n\n\nThe Chamber will also be handing out its First Annual "Jim Lingenfelter Service Award" to an individual who emulate the characteristics of Jim Lingenfelter and continue to follow in his footsteps to make Ashland County a better place live\, work\, and raise a family. Jim was a perfect example of servant leadership. His passion\, dedication\, and positive attitude spanned the entire county as he worked to make connections and bring organizations together for the good of the Ashland Area.\n\n\n\nCLICK HERE FOR SPONSORSHIP OPPORTUNITIES
X-ALT-DESC;FMTTYPE=text/html:<span style="color:#cc9933\;"><span style="font-size: 18px\;"><strong>CHAMBER ANNUAL MEETING</strong></span></span>\n\n<p style="text-align: justify\;"><strong>&nbsp\;&nbsp\;&nbsp\;&nbsp\; &nbsp\; <span style="color:#B22222\;">Thursday\, November 6\, 2014<br />\n&nbsp\;&nbsp\;&nbsp\;&nbsp\;&nbsp\;&nbsp\; 11:30 am - 1:00 pm<br />\n&nbsp\;&nbsp\;&nbsp\;&nbsp\;&nbsp\;&nbsp\; Ashland University Convocation Center</span><br />\n<br />\nOn Thursday\, November 6\, 2014 the Ashland Area Chamber of Commerce will hold it&#39\;s Annual Meeting. </strong><strong>Barbie Lange - Chamber President/CEO\, and current board members will conduct the meeting and speak about Chamber business\, past accomplishments and the plan/vision for the future of the Chamber. </strong></p>\n\n<p style="text-align: justify\;"><span style="color:#b22222\;"><strong>Divisional highlights from the Ashland Area Convention and Visitor&#39\;s Bureau\, </strong><strong>Ashland Area Safety Council </strong><strong>and Leadership Ashland&nbsp\;</strong><strong> will be provided in the event program along with information on all those businesses who have contributed to the Chamber through sponsorships.</strong></span></p>\n\n<p style="text-align: justify\;"><strong>One&nbsp\;highlight of the Luncheon will be two <span style="color: rgb(189\, 102\, 10)\;">&quot\;Spirit of the Chamber&quot\;</span> awards (</strong><em>Individual &amp\; Business</em><strong>) given for recognition of exemplary dedication and service.&nbsp\; The recipients will have demonstrated leadership in volunteerism\, energy\, creativity and giving.&nbsp\; Additionally\, they will have assisted the Chamber in keeping strong our traditions\, while at the same time taking risks to make a difference in the community.<br />\n<br />\nThe Chamber will also be handing out its First Annual &quot\;<span style="color:#8B4513\;">Jim Lingenfelter Service Award</span>&quot\; to an individual who emulate the characteristics of Jim Lingenfelter and continue to follow in his footsteps to make Ashland County a better place live\, work\, and raise a family.</strong> <strong>Jim was a perfect example of servant leadership. His passion\, dedication\, and positive attitude spanned the entire county as he worked to make connections and bring organizations together for the good of the Ashland Area.</strong><br />\n<br />\n<strong><a href="http://cloud.chambermaster.com/userfiles/UserFiles/chambers/1651/File/Events/2014_AM/2014AnnualMeetingSponsorshipLevels.pdf"><span style="color:#B22222\;">CLICK HERE FOR SPONSORSHIP OPPORTUNITIES</span></a></strong><br />\n&nbsp\;</p>\n
LOCATION:Ashland University Convocation Center 638 Jefferson St. Ashland\, OH 44805
UID:e.1651.1388
SEQUENCE:3
DTSTAMP:20260422T060442Z
URL:https://members.ashlandoh.com/events/details/annual-meeting-november-6-2014-11-06-2014-1388
END:VEVENT

END:VCALENDAR
