BEGIN:VCALENDAR
VERSION:2.0
PRODID:-//ChamberMaster//Event Calendar 2.0//EN
METHOD:PUBLISH
X-PUBLISHED-TTL:P3D
REFRESH-INTERVAL:P3D
CALSCALE:GREGORIAN
BEGIN:VEVENT
DTSTART:20170309T220000Z
DTEND:20170310T013000Z
X-MICROSOFT-CDO-ALLDAYEVENT:FALSE
SUMMARY:Annual Member Awards Banquet 3-9-17
DESCRIPTION:HONORING THOSE BUSINESSES THAT SERVE ASHLAND BEST!\n\n\n\nJoin us as we celebrate the presentation of awards to ten (10) of our Outstanding Chamber Member Businesses.\n\n\n\nThe award categories for the 2017 event are as follows:\n\n\n	Small Business\n	Large Business\n	Retail Business\n	Professional Services\n	Agriculture\n	Culture & Recreation\n	Education\n	Health & Medical Services\n	Social Services\n	Entrepreneur of the Year\n\nKeynote Speaker: Lt. Governor - Mary Taylor\n\nDate: Thursday\, March 9\, 2017\n\nTime: 5:00 - 8:30 pm (VIP Reception 4:30 pm)\n\nPlace: AU Convocation Center - 638 Jefferson St.\, Ashland\n\nCost: $35 pp members / $50 pp non-members\n\n\n\nTo see a list of Award Finalists\, CLICK HERE\n\n\n\nFOR SPONSORSHIP AND REGISTRATION INFORMATION CLICK HERE! \n\n\n\nIf you have any questions about the Awards\, please feel free to contact us.
X-ALT-DESC;FMTTYPE=text/html:<p><span style="color:#006400\;"><span style="font-size: 14px\;"><span style="font-family: verdana\;"><strong>HONORING THOSE BUSINESSES THAT SERVE ASHLAND BEST!</strong></span></span></span><br />\n<br />\n<span style="font-family:verdana\;"><strong>Join us as we celebrate the presentation of awards to ten (10) of our Outstanding Chamber Member Businesses.<br />\n<br />\nThe award categories for the 2017 event are as follows:</strong></span></p>\n\n<ul>\n	<li>Small Business</li>\n	<li>Large Business</li>\n	<li>Retail Business</li>\n	<li>Professional Services</li>\n	<li>Agriculture</li>\n	<li>Culture &amp\; Recreation</li>\n	<li>Education</li>\n	<li>Health &amp\; Medical Services</li>\n	<li>Social Services</li>\n	<li>Entrepreneur of the Year</li>\n</ul>\n<strong>Keynote Speaker: Lt. Governor - Mary Taylor</strong><br />\n<strong>Date: Thursday\, March 9\, 2017<br />\nTime: 5:00 - 8:30 pm (VIP Reception 4:30 pm)<br />\nPlace: AU Convocation Center - 638 Jefferson St.\, Ashland<br />\nCost: $35 pp members / $50 pp non-members</strong><br />\n<br />\nTo see a list of Award Finalists\, <a href="https://chambermaster.blob.core.windows.net/userfiles/UserFiles/chambers/1651/File/Events/2017_AMAB/2017AMABFinalistList.pdf" target="_blank"><u><strong><span style="color:#008000\;">CLICK HERE</span></strong></u></a><br />\n<br />\n<strong><u><a href="https://chambermaster.blob.core.windows.net/userfiles/UserFiles/chambers/1651/File/Events/2017_AMAB/AMAB2017SponsorshipandParticipationForm.pdf" target="_blank"><span style="color:#B22222\;"><span style="background-color:#FFFF00\;">FOR SPONSORSHIP AND REGISTRATION INFORMATION CLICK HERE!</span></span></a></u> </strong><br />\n<br />\nIf you have any questions about the Awards\, please feel free to contact us.
LOCATION:AU Convocation Center 638 Jefferson St. Ashland OH 44805
UID:e.1651.4138
SEQUENCE:3
DTSTAMP:20260420T034257Z
URL:https://members.ashlandoh.com/events/details/annual-member-awards-banquet-3-9-17-03-09-2017-4138
END:VEVENT

END:VCALENDAR
