BEGIN:VCALENDAR
VERSION:2.0
PRODID:-//ChamberMaster//Event Calendar 2.0//EN
METHOD:PUBLISH
X-PUBLISHED-TTL:P3D
REFRESH-INTERVAL:P3D
CALSCALE:GREGORIAN
BEGIN:VEVENT
DTSTART:20160421T210000Z
DTEND:20160422T003000Z
X-MICROSOFT-CDO-ALLDAYEVENT:FALSE
SUMMARY:Annual Member Awards Banquet 4-21-16
DESCRIPTION:HONORING THOSE BUSINESSES THAT SERVE ASHLAND BEST!\n\n\n\nJoin us as we celebrate the presentation of awards to eight (8) of our Outstanding Chamber Member Businesses.\n\n\n\nThe award categories for the 2016 event are as follows:\n\n\n	Small Business\n	Large Business\n	Retail Business\n	Professional Services\n	Culture & Recreation\n	Education\n	Health & Medical Services\n	Social Services\n\nKeynote Speaker: Dr. Lucille Ford\n\nDate: Thursday\, April 21\, 2016\n\nTime: 5:00 - 8:30 pm (VIP Reception 4:30 pm)\n\nPlace: AU Convocation Center - 638 Jefferson St.\, Ashland\n\nCost: $35 pp members / $50 pp non-members\n\n\n\nTo see a list of finalists CLICK HERE\n\nSPONSORSHIP & REGISTRATION information can be found here.\n\n\n\nIf you have any questions about the Awards\, please feel free to contact us.
X-ALT-DESC;FMTTYPE=text/html:<p><span style="color:#006400\;"><span style="font-size: 14px\;"><span style="font-family: verdana\;"><strong>HONORING THOSE BUSINESSES THAT SERVE ASHLAND BEST!</strong></span></span></span><br />\n<br />\n<span style="font-family:verdana\;"><strong>Join us as we celebrate the presentation of awards to eight (8) of our Outstanding Chamber Member Businesses.<br />\n<br />\nThe award categories for the 2016 event are as follows:</strong></span></p>\n\n<ul>\n	<li>Small Business</li>\n	<li>Large Business</li>\n	<li>Retail Business</li>\n	<li>Professional Services</li>\n	<li>Culture &amp\; Recreation</li>\n	<li>Education</li>\n	<li>Health &amp\; Medical Services</li>\n	<li>Social Services</li>\n</ul>\n<strong>Keynote Speaker: </strong><strong>Dr. Lucille Ford</strong><br />\n<strong>Date: Thursday\, April 21\, 2016<br />\nTime: 5:00 - 8:30 pm (VIP Reception 4:30 pm)<br />\nPlace: AU Convocation Center - 638 Jefferson St.\, Ashland<br />\nCost: $35 pp members / $50 pp non-members</strong><br />\n<br />\nTo see a list of finalists <a href="https://chambermaster.blob.core.windows.net/userfiles/UserFiles/chambers/1651/File/2016_AMAB/2016FinalistList-AMAB.pdf" target="_blank"><strong><span style="color:#008000\;">CLICK HERE</span></strong></a><br />\n<a href="http://cloud.chambermaster.com/userfiles/UserFiles/chambers/1651/File/2016_AMAB/AMAB2016SponsorshipandParticipationForm-12-16-15.pdf" target="_blank"><strong><span style="color:#008000\;">SPONSORSHIP &amp\; REGISTRATION</span></strong> </a>information can be found here.<br />\n<br />\nIf you have any questions about the Awards\, please feel free to contact us.
LOCATION:
UID:e.1651.2174
SEQUENCE:3
DTSTAMP:20260421T002536Z
URL:https://members.ashlandoh.com/events/details/annual-member-awards-banquet-4-21-16-04-21-2016-2174
END:VEVENT

END:VCALENDAR
