BEGIN:VCALENDAR
VERSION:2.0
PRODID:-//ChamberMaster//Event Calendar 2.0//EN
METHOD:PUBLISH
X-PUBLISHED-TTL:P3D
REFRESH-INTERVAL:P3D
CALSCALE:GREGORIAN
BEGIN:VEVENT
DTSTART:20150129T130000Z
DTEND:20150129T213000Z
X-MICROSOFT-CDO-ALLDAYEVENT:FALSE
SUMMARY:ARCTIC OPEN - Winter Golf Event
DESCRIPTION:THIS EVENT HAS BEEN CANCELED AND MAY BE RESCHEDULED!\n\n\n\nIT'S NEVER TOO COLD TO GOLF!\n\nCome and join us for our first annual Chamber Arctic Open\n\nWinter Golf Event  - PLAY THE BACK NINE AT PEBBLE BEACH\n\n                Three (3) flights (tee-times) will be available:\n\n  1st  Flight -   8:30 am - 11:00 am - 10 Teams\n\n  2nd Flight - 11:00 am - 1:00 pm - 10 Teams\n\n  3rd  Flight -  1:30 am - 4:00 pm - 10 Teams\n\n\n\nThere will be space for 20 golfers on each flight (Teams of 2). We will have many different contests and other activities throughout the day such as: Golfers Closest to the pin & Putting Contests\, Poker/Euchre Tournaments\, Pool\, Arcade and Giant Jenga. Great food\, and Prizes. Raffle to benefit the Special Olympics Dragon Golf Team. Open to the public. Bring your favorite client! $50 per person. Sponsorship Opportunities available with your Membership Levels.
X-ALT-DESC;FMTTYPE=text/html:<span style="font-weight:bold\;language:en-US\;"><span style="color:#B22222\;"><span style="font-family: comic sans ms\;"><span style="font-size: 13.5pt\;"><span style="font-family: verdana\;">THIS EVENT HAS BEEN CANCELED AND MAY BE RESCHEDULED!</span></span></span></span><br />\n<br />\n<span style="color:#3366CC\;"><span style="font-family:comic sans ms\;"><span style="font-size:13.5pt\;">IT&#39\;S NEVER TOO COLD TO GOLF!</span></span></span></span><br />\n<span style="language:en-US\;">Come and join us for our first annual Chamber Arctic Open<br />\nWinter Golf Event&nbsp\; - </span><span style="font-weight:bold\;language:en-US\;"><span style="font-family:calibri\;">PLAY THE BACK NINE AT PEBBLE BEACH</span></span><br />\n<span style="font-weight:bold\;language:en-US\;"><span style="font-family:calibri\;">&nbsp\;&nbsp\;&nbsp\;&nbsp\;&nbsp\;&nbsp\;&nbsp\;&nbsp\;&nbsp\;&nbsp\;&nbsp\;&nbsp\;&nbsp\;&nbsp\;&nbsp\; Three (</span></span><span style="font-style:italic\;font-weight:bold\;language:en-US\;"><span style="font-family:calibri\;">3) flights (tee-times) will be available:</span></span><br />\n<span style="direction:ltr\;unicode-bidi:embed\;"><span style="color:black\;"><span style="font-size:12.0pt\;"><span style="font-family:symbol\;">&middot\;</span></span></span></span>&nbsp\;<span style="language:en-US\;">1</span><span style="language:en-US\;"><span style="font-family:calibri\;"><sup>st</sup></span></span><span style="language:en-US\;"> &nbsp\;Flight -&nbsp\;&nbsp\; 8:30 am - 11:00 am - 10 Teams</span><br />\n<span style="direction:ltr\;unicode-bidi:embed\;"><span style="color:black\;"><span style="font-size:12.0pt\;"><span style="font-family:symbol\;">&middot\;</span></span></span></span>&nbsp\;<span style="language:en-US\;">2</span><span style="language:en-US\;"><span style="font-family:calibri\;"><sup>nd</sup></span></span><span style="language:en-US\;">&nbsp\;Flight - 11:00 am - 1:00 pm - 10 Teams</span><br />\n<span style="direction:ltr\;unicode-bidi:embed\;"><span style="color:black\;"><span style="font-size:12.0pt\;"><span style="font-family:symbol\;">&middot\;</span></span></span></span>&nbsp\;<span style="language:en-US\;">3</span><span style="language:en-US\;"><span style="font-family:calibri\;"><sup>rd</sup></span></span><span style="language:en-US\;">&nbsp\;&nbsp\;Flight -&nbsp\; 1:30 am - 4:00 pm - 10 Teams</span><br />\n<br />\n<span style="language:en-US\;">There will be space for 20 golfers on each flight (Teams of 2). We will have many different contests and other activities throughout the day such as: Golfers Closest to the pin &amp\; Putting Contests\, Poker/Euchre Tournaments\, Pool\, Arcade and Giant Jenga. Great food\, and Prizes. Raffle to benefit the Special Olympics Dragon Golf Team. Open to the public. Bring your favorite client! $50 per person. </span><span style="language:en-US\;">Sponsorship Opportunities available with your Membership Levels.</span><br />\n<br />\n<br />\n<br />\n&nbsp\;
LOCATION:The Caddy Shack Indoor Golf & Fun 1640 Claremont Ave.\, Ashland OH 44805
UID:e.1651.1613
SEQUENCE:3
DTSTAMP:20260422T011432Z
URL:https://members.ashlandoh.com/events/details/arctic-open-winter-golf-event-01-29-2015-1613
END:VEVENT

END:VCALENDAR
