BEGIN:VCALENDAR
VERSION:2.0
PRODID:-//ChamberMaster//Event Calendar 2.0//EN
METHOD:PUBLISH
X-PUBLISHED-TTL:P3D
REFRESH-INTERVAL:P3D
CALSCALE:GREGORIAN
BEGIN:VEVENT
DTSTART:20140501T120000Z
DTEND:20140501T130000Z
X-MICROSOFT-CDO-ALLDAYEVENT:FALSE
SUMMARY:Ashland Area Business Connections
DESCRIPTION:Cost Effective Marketing - Making the most out of your advertising dollar\n\nRoundtable discussion
X-ALT-DESC;FMTTYPE=text/html:<span style="color:#000080\;"><strong>Cost Effective Marketing - Making the most out of your advertising dollar</strong><br />\n<span style="font-size:11px\;"><em>Roundtable discussion</em></span></span><br />\n&nbsp\;
LOCATION:Downtown Perk & Dessert Oasis 145 W Main St. Ashland\, OH 44805
UID:e.1651.627
SEQUENCE:3
DTSTAMP:20260422T140828Z
URL:https://members.ashlandoh.com/events/details/ashland-area-business-connections-05-01-2014-627
END:VEVENT

END:VCALENDAR
