BEGIN:VCALENDAR
VERSION:2.0
PRODID:-//ChamberMaster//Event Calendar 2.0//EN
METHOD:PUBLISH
X-PUBLISHED-TTL:P3D
REFRESH-INTERVAL:P3D
CALSCALE:GREGORIAN
BEGIN:VEVENT
DTSTART:20140807T120000Z
DTEND:20140807T130000Z
X-MICROSOFT-CDO-ALLDAYEVENT:FALSE
SUMMARY:Ashland Area Business Connections
DESCRIPTION:Investing For Tax Benefits\n\nSpeaker: Mike Reynolds - Skylight Financial Group
X-ALT-DESC;FMTTYPE=text/html:<span style="color:#000080\;"><strong>Investing For Tax Benefits</strong><br />\n<span style="font-size:11px\;"><em>Speaker: Mike Reynolds - Skylight Financial Group</em></span></span><br />\n&nbsp\;
LOCATION:Downtown Perk & Dessert Oasis 145 W Main St. Ashland\, OH 44805
UID:e.1651.630
SEQUENCE:3
DTSTAMP:20260422T102958Z
URL:https://members.ashlandoh.com/events/details/ashland-area-business-connections-08-07-2014-630
END:VEVENT

END:VCALENDAR
