BEGIN:VCALENDAR
VERSION:2.0
PRODID:-//ChamberMaster//Event Calendar 2.0//EN
METHOD:PUBLISH
X-PUBLISHED-TTL:P3D
REFRESH-INTERVAL:P3D
CALSCALE:GREGORIAN
BEGIN:VEVENT
DTSTART:20140904T120000Z
DTEND:20140904T130000Z
X-MICROSOFT-CDO-ALLDAYEVENT:FALSE
SUMMARY:Ashland Area Business Connections
DESCRIPTION:Top Ten Social Media Tools for Business\n\nSpeaker - Jeremy Harrison - Spire Advertising & Web Design
X-ALT-DESC;FMTTYPE=text/html:<span style="color:#000080\;"><strong>Top Ten Social Media Tools for Business</strong><br />\n<span style="font-size:11px\;"><em>Speaker - Jeremy Harrison - Spire Advertising &amp\; Web Design</em></span></span>
LOCATION:Downtown Perk & Dessert Oasis 145 W Main St. Ashland\, OH 44805
UID:e.1651.631
SEQUENCE:3
DTSTAMP:20260422T073741Z
URL:https://members.ashlandoh.com/events/details/ashland-area-business-connections-09-04-2014-631
END:VEVENT

END:VCALENDAR
