BEGIN:VCALENDAR
VERSION:2.0
PRODID:-//ChamberMaster//Event Calendar 2.0//EN
METHOD:PUBLISH
X-PUBLISHED-TTL:P3D
REFRESH-INTERVAL:P3D
CALSCALE:GREGORIAN
BEGIN:VEVENT
DTSTART:20161006T120000Z
DTEND:20161006T130000Z
X-MICROSOFT-CDO-ALLDAYEVENT:FALSE
SUMMARY:Ashland Area Business Connections 10-6-16
DESCRIPTION:Topic: Highlighting Your Customers - Giving Back\n\nSpeaker: Jeremy Harrison - Spire Advertising Inc.
X-ALT-DESC;FMTTYPE=text/html:<span style="font-size:16px\;"><span style="color: rgb(0\, 0\, 205)\;">Topic: Highlighting Your Customers - Giving Back</span></span><br />\n<span style="color:#A52A2A\;"><em>Speaker: Jeremy Harrison - Spire Advertising Inc.</em></span>
LOCATION:Downtown Perk 145 W Main St. Ashland OH 44805
UID:e.1651.2464
SEQUENCE:3
DTSTAMP:20260420T121623Z
URL:https://members.ashlandoh.com/events/details/ashland-area-business-connections-10-6-16-10-06-2016-2464
END:VEVENT

END:VCALENDAR
