BEGIN:VCALENDAR
VERSION:2.0
PRODID:-//ChamberMaster//Event Calendar 2.0//EN
METHOD:PUBLISH
X-PUBLISHED-TTL:P3D
REFRESH-INTERVAL:P3D
CALSCALE:GREGORIAN
BEGIN:VEVENT
DTSTART:20161103T120000Z
DTEND:20161103T130000Z
X-MICROSOFT-CDO-ALLDAYEVENT:FALSE
SUMMARY:Ashland Area Business Connections 11-3-16
DESCRIPTION:Topic: Customer Rewards\n\nWhat programs do you have in place to reward customer referrals and loyalty?\n\nRoundtable discussion with participants
X-ALT-DESC;FMTTYPE=text/html:<span style="font-size:16px\;"><span style="color: rgb(0\, 0\, 205)\;">Topic: Customer Rewards<br />\n<span style="font-size:12px\;"><em>What programs do you have in place to reward customer referrals and loyalty?</em></span></span></span><br />\n<span style="color:#A52A2A\;"><em>Roundtable discussion with participants</em></span>
LOCATION:Downtown Perk 145 W Main St. Ashland OH 44805
UID:e.1651.2465
SEQUENCE:3
DTSTAMP:20260420T104135Z
URL:https://members.ashlandoh.com/events/details/ashland-area-business-connections-11-3-16-11-03-2016-2465
END:VEVENT

END:VCALENDAR
