BEGIN:VCALENDAR
VERSION:2.0
PRODID:-//ChamberMaster//Event Calendar 2.0//EN
METHOD:PUBLISH
X-PUBLISHED-TTL:P3D
REFRESH-INTERVAL:P3D
CALSCALE:GREGORIAN
BEGIN:VEVENT
DTSTART:20151105T130000Z
DTEND:20151105T140000Z
X-MICROSOFT-CDO-ALLDAYEVENT:FALSE
SUMMARY:Ashland Area Business Connections 11-5-15
DESCRIPTION:Topic: "Customer Retention" \n\nCustomer satisfaction and retention represent constant challenges\, especially for businesses with multiple competitors. Roundtable discussion - share successful strategies for connecting with customers and keeping them!\n\n\n\nTo learn more about this and other business networking opportunities\, CLICK HERE
X-ALT-DESC;FMTTYPE=text/html:<span style="color:#A52A2A\;"><em><strong>Topic: &quot\;Customer Retention&quot\; </strong><br />\nCustomer satisfaction and retention represent constant challenges\, especially for businesses with multiple competitors. Roundtable discussion - share successful strategies for connecting with customers and keeping them!</em></span><br />\n<br />\nTo learn more about this and other business networking opportunities\, <a href="http://www.ashlandoh.com/your-chamber/networking-opportunities/connection-groups" target="_blank"><strong>CLICK HERE</strong></a>
LOCATION:Downtown Perk & Dessert Oasis 145 W. Main St.\, Ashland\, Oh 44805
UID:e.1651.715
SEQUENCE:3
DTSTAMP:20260421T073002Z
URL:https://members.ashlandoh.com/events/details/ashland-area-business-connections-11-5-15-11-05-2015-715
END:VEVENT

END:VCALENDAR
