BEGIN:VCALENDAR
VERSION:2.0
PRODID:-//ChamberMaster//Event Calendar 2.0//EN
METHOD:PUBLISH
X-PUBLISHED-TTL:P3D
REFRESH-INTERVAL:P3D
CALSCALE:GREGORIAN
BEGIN:VEVENT
DTSTART:20161201T130000Z
DTEND:20161201T140000Z
X-MICROSOFT-CDO-ALLDAYEVENT:FALSE
SUMMARY:Ashland Area Business Connections 12-1-16
DESCRIPTION:Topic: How Your Workspace Impacts Your Productivity\n\nSpeaker: Chad Gogley - Ohio Bureau of Worker's Compensation
X-ALT-DESC;FMTTYPE=text/html:<span style="font-size:16px\;"><span style="color: rgb(0\, 0\, 205)\;">Topic: How Your Workspace Impacts Your Productivity</span></span><br />\n<span style="color:#A52A2A\;"><em>Speaker: Chad Gogley - Ohio Bureau of Worker&#39\;s Compensation</em></span>
LOCATION:Downtown Perk 145 W Main St. Ashland OH 44805
UID:e.1651.2466
SEQUENCE:3
DTSTAMP:20260420T085703Z
URL:https://members.ashlandoh.com/events/details/ashland-area-business-connections-12-1-16-12-01-2016-2466
END:VEVENT

END:VCALENDAR
