BEGIN:VCALENDAR
VERSION:2.0
PRODID:-//ChamberMaster//Event Calendar 2.0//EN
METHOD:PUBLISH
X-PUBLISHED-TTL:P3D
REFRESH-INTERVAL:P3D
CALSCALE:GREGORIAN
BEGIN:VEVENT
DTSTART:20151203T130000Z
DTEND:20151203T140000Z
X-MICROSOFT-CDO-ALLDAYEVENT:FALSE
SUMMARY:Ashland Area Business Connections 12-3-15
DESCRIPTION:Topic: Ten Options for Giving Back to the Community During the Holiday Season\n\nSpeaker: TBD\n\n\n\nTo learn more about this and other business networking opportunities\, CLICK HERE
X-ALT-DESC;FMTTYPE=text/html:<span style="color:#A52A2A\;"><span style="font-size: 14px\;"><em><strong>Topic: Ten Options for Giving Back to the Community During the Holiday Season</strong><br />\nSpeaker: TBD</em></span></span><br />\n<br />\nTo learn more about this and other business networking opportunities\, <a href="http://www.ashlandoh.com/your-chamber/networking-opportunities/connection-groups" target="_blank"><strong>CLICK HERE</strong></a>
LOCATION:Downtown Perk & Dessert Oasis 145 W. Main St.\, Ashland\, Oh 44805
UID:e.1651.716
SEQUENCE:3
DTSTAMP:20260421T055814Z
URL:https://members.ashlandoh.com/events/details/ashland-area-business-connections-12-3-15-12-03-2015-716
END:VEVENT

END:VCALENDAR
