BEGIN:VCALENDAR
VERSION:2.0
PRODID:-//ChamberMaster//Event Calendar 2.0//EN
METHOD:PUBLISH
X-PUBLISHED-TTL:P3D
REFRESH-INTERVAL:P3D
CALSCALE:GREGORIAN
BEGIN:VEVENT
DTSTART:20150205T130000Z
DTEND:20150205T140000Z
X-MICROSOFT-CDO-ALLDAYEVENT:FALSE
SUMMARY:Ashland Area Business Connections 14-15
DESCRIPTION:Marketing Without Money\n\n(Participant lead Roundtable discussion)\n\n\n\nTo learn more about this and other business networking opportunities\, CLICK HERE
X-ALT-DESC;FMTTYPE=text/html:<strong>Marketing Without Money</strong><br />\n(Participant lead Roundtable discussion)<br />\n<br />\nTo learn more about this and other business networking opportunities\, <a href="http://www.ashlandoh.com/your-chamber/networking-opportunities/connection-groups" target="_blank"><strong>CLICK HERE</strong></a>
LOCATION:Downtown Perk & Dessert Oasis 145 W. Main St.\, Ashland\, Oh 44805
UID:e.1651.706
SEQUENCE:3
DTSTAMP:20260422T011946Z
URL:https://members.ashlandoh.com/events/details/ashland-area-business-connections-14-15-02-05-2015-706
END:VEVENT

END:VCALENDAR
