BEGIN:VCALENDAR
VERSION:2.0
PRODID:-//ChamberMaster//Event Calendar 2.0//EN
METHOD:PUBLISH
X-PUBLISHED-TTL:P3D
REFRESH-INTERVAL:P3D
CALSCALE:GREGORIAN
BEGIN:VEVENT
DTSTART:20141106T130000Z
DTEND:20141106T140000Z
X-MICROSOFT-CDO-ALLDAYEVENT:FALSE
SUMMARY:Ashland Area Business Connections 14-15
DESCRIPTION:Discovering the Obvious and Returning to Basics - Advancing your business with some simple by underrated techniques.\n\nSpeaker: Allan Andersen - WebDev Works
X-ALT-DESC;FMTTYPE=text/html:<strong>Discovering the Obvious and Returning to Basics - Advancing your business with some simple by underrated techniques.</strong><br />\n<span style="color:#0000CD\;"><em>Speaker: Allan Andersen - WebDev Works</em></span>
LOCATION:Downtown Perk & Dessert Oasis 145 W. Main St.\, Ashland\, Oh 44805
UID:e.1651.703
SEQUENCE:3
DTSTAMP:20260422T044537Z
URL:https://members.ashlandoh.com/events/details/ashland-area-business-connections-14-15-11-06-2014-703
END:VEVENT

END:VCALENDAR
