BEGIN:VCALENDAR
VERSION:2.0
PRODID:-//ChamberMaster//Event Calendar 2.0//EN
METHOD:PUBLISH
X-PUBLISHED-TTL:P3D
REFRESH-INTERVAL:P3D
CALSCALE:GREGORIAN
BEGIN:VEVENT
DTSTART:20141204T130000Z
DTEND:20141204T140000Z
X-MICROSOFT-CDO-ALLDAYEVENT:FALSE
SUMMARY:Ashland Area Business Connections 14-15
DESCRIPTION:TWITTER!\n\nMelissa Martin - Ashland Chamber
X-ALT-DESC;FMTTYPE=text/html:<strong>TWITTER!</strong><br />\n<span style="color:#0000CD\;"><em>Melissa Martin - Ashland Chamber</em></span>
LOCATION:Downtown Perk & Dessert Oasis 145 W. Main St.\, Ashland\, Oh 44805
UID:e.1651.704
SEQUENCE:3
DTSTAMP:20260422T030905Z
URL:https://members.ashlandoh.com/events/details/ashland-area-business-connections-14-15-12-04-2014-704
END:VEVENT

END:VCALENDAR
