BEGIN:VCALENDAR
VERSION:2.0
PRODID:-//ChamberMaster//Event Calendar 2.0//EN
METHOD:PUBLISH
X-PUBLISHED-TTL:P3D
REFRESH-INTERVAL:P3D
CALSCALE:GREGORIAN
BEGIN:VEVENT
DTSTART:20160204T130000Z
DTEND:20160204T140000Z
X-MICROSOFT-CDO-ALLDAYEVENT:FALSE
SUMMARY:Ashland Area Business Connections 2-4-16
DESCRIPTION:Topic: Handling difficult customers\n\nSpeaker: Tom Brohm - The SourceOne Group
X-ALT-DESC;FMTTYPE=text/html:<span style="font-size:16px\;"><span style="color: rgb(0\, 0\, 205)\;">Topic: Handling difficult customers</span></span><br />\n<span style="color:#A52A2A\;"><em>Speaker: Tom Brohm - The SourceOne Group</em></span>
LOCATION:Downtown Perk 145 W Main St. Ashland OH 44805
UID:e.1651.2456
SEQUENCE:3
DTSTAMP:20260421T021323Z
URL:https://members.ashlandoh.com/events/details/ashland-area-business-connections-2-4-16-02-04-2016-2456
END:VEVENT

END:VCALENDAR
