BEGIN:VCALENDAR
VERSION:2.0
PRODID:-//ChamberMaster//Event Calendar 2.0//EN
METHOD:PUBLISH
X-PUBLISHED-TTL:P3D
REFRESH-INTERVAL:P3D
CALSCALE:GREGORIAN
BEGIN:VEVENT
DTSTART:20160303T130000Z
DTEND:20160303T140000Z
X-MICROSOFT-CDO-ALLDAYEVENT:FALSE
SUMMARY:Ashland Area Business Connections 3-3-16
DESCRIPTION:Topic: Mailing solutions for small business\n\nSpeaker: Ron Bayne - The UPS Store
X-ALT-DESC;FMTTYPE=text/html:<span style="font-size:16px\;"><span style="color: rgb(0\, 0\, 205)\;">Topic: Mailing solutions for small business</span></span><br />\n<span style="color:#A52A2A\;"><em>Speaker: Ron Bayne - The UPS Store</em></span>
LOCATION:Downtown Perk 145 W Main St. Ashland OH 44805
UID:e.1651.2457
SEQUENCE:3
DTSTAMP:20260421T002546Z
URL:https://members.ashlandoh.com/events/details/ashland-area-business-connections-3-3-16-03-03-2016-2457
END:VEVENT

END:VCALENDAR
