BEGIN:VCALENDAR
VERSION:2.0
PRODID:-//ChamberMaster//Event Calendar 2.0//EN
METHOD:PUBLISH
X-PUBLISHED-TTL:P3D
REFRESH-INTERVAL:P3D
CALSCALE:GREGORIAN
BEGIN:VEVENT
DTSTART:20150305T130000Z
DTEND:20150305T140000Z
X-MICROSOFT-CDO-ALLDAYEVENT:FALSE
SUMMARY:Ashland Area Business Connections 3-5-15
DESCRIPTION:Company Vehicles\n\nSpeaker: Ruth Diehl - Ruth's Driving Academy\n\n\n\nTo learn more about this and other business networking opportunities\, CLICK HERE
X-ALT-DESC;FMTTYPE=text/html:<strong>Company Vehicles</strong><br />\nSpeaker: Ruth Diehl - Ruth&#39\;s Driving Academy<br />\n<br />\nTo learn more about this and other business networking opportunities\, <a href="http://www.ashlandoh.com/your-chamber/networking-opportunities/connection-groups" target="_blank"><strong>CLICK HERE</strong></a>
LOCATION:Downtown Perk & Dessert Oasis 145 W. Main St.\, Ashland\, Oh 44805
UID:e.1651.707
SEQUENCE:3
DTSTAMP:20260421T215357Z
URL:https://members.ashlandoh.com/events/details/ashland-area-business-connections-3-5-15-03-05-2015-707
END:VEVENT

END:VCALENDAR
