BEGIN:VCALENDAR
VERSION:2.0
PRODID:-//ChamberMaster//Event Calendar 2.0//EN
METHOD:PUBLISH
X-PUBLISHED-TTL:P3D
REFRESH-INTERVAL:P3D
CALSCALE:GREGORIAN
BEGIN:VEVENT
DTSTART:20150402T120000Z
DTEND:20150402T130000Z
X-MICROSOFT-CDO-ALLDAYEVENT:FALSE
SUMMARY:Ashland Area Business Connections 4-2-15
DESCRIPTION:Topic: Guerrilla Marketing\n\nSpeaker: Allan Andersen - WebDev Works\n\nA special thanks to Allan for speaking on this interesting topic!\n\n\n\nTo learn more about upcoming meetings\,  click here!
X-ALT-DESC;FMTTYPE=text/html:<em><strong>Topic: Guerrilla Marketing</strong><br />\nSpeaker: Allan Andersen - WebDev Works</em><br />\nA special thanks to Allan for speaking on this interesting topic!<br />\n<br />\n<em>To learn more about upcoming meetings</em>\,&nbsp\;<a href="http://cloud.chambermaster.com/userfiles/UserFiles/chambers/1651/File/Connection_Groups/AshlandAreaBusinessConnections-Meetingschedule-updated3-31-15.pdf" target="_blank"><u> </u><span style="color:#0000CD\;"><strong>click here!</strong></span></a><br />\n&nbsp\;
LOCATION:Downtown Perk & Dessert Oasis 145 W. Main St.\, Ashland\, Oh 44805
UID:e.1651.708
SEQUENCE:3
DTSTAMP:20260421T215012Z
URL:https://members.ashlandoh.com/events/details/ashland-area-business-connections-4-2-15-04-02-2015-708
END:VEVENT

END:VCALENDAR
