BEGIN:VCALENDAR
VERSION:2.0
PRODID:-//ChamberMaster//Event Calendar 2.0//EN
METHOD:PUBLISH
X-PUBLISHED-TTL:P3D
REFRESH-INTERVAL:P3D
CALSCALE:GREGORIAN
BEGIN:VEVENT
DTSTART:20160407T120000Z
DTEND:20160407T130000Z
X-MICROSOFT-CDO-ALLDAYEVENT:FALSE
SUMMARY:Ashland Area Business Connections 4-7-16
DESCRIPTION:Topic: The Art of Selling on Social Media\n\nSpeaker: Josh Coffy - Flight Media
X-ALT-DESC;FMTTYPE=text/html:<span style="font-size:16px\;"><span style="color: rgb(0\, 0\, 205)\;">Topic: The Art of Selling on Social Media</span></span><br />\n<span style="color:#A52A2A\;"><em>Speaker: Josh Coffy - Flight Media</em></span>
LOCATION:Downtown Perk 145 W Main St. Ashland OH 44805
UID:e.1651.2458
SEQUENCE:3
DTSTAMP:20260421T002421Z
URL:https://members.ashlandoh.com/events/details/ashland-area-business-connections-4-7-16-04-07-2016-2458
END:VEVENT

END:VCALENDAR
