BEGIN:VCALENDAR
VERSION:2.0
PRODID:-//ChamberMaster//Event Calendar 2.0//EN
METHOD:PUBLISH
X-PUBLISHED-TTL:P3D
REFRESH-INTERVAL:P3D
CALSCALE:GREGORIAN
BEGIN:VEVENT
DTSTART:20150507T120000Z
DTEND:20150507T130000Z
X-MICROSOFT-CDO-ALLDAYEVENT:FALSE
SUMMARY:Ashland Area Business Connections 5-7-15
DESCRIPTION:Topic: Understanding the Differences in LLC\, S Corp and C Corp\n\nSpeaker: Patrick Noser & Clint Leibolt - Critchfield\, Critchfield & Johnston\n\n\n\nTo learn more about this and other business networking opportunities\, CLICK HERE
X-ALT-DESC;FMTTYPE=text/html:<span style="font-size:14px\;"><span style="color: rgb(165\, 42\, 42)\;"><em><strong>Topic: Understanding the Differences in LLC\, S Corp and C Corp</strong><br />\nSpeaker: Patrick Noser &amp\; Clint Leibolt - Critchfield\, Critchfield &amp\; Johnston</em></span></span><br />\n<br />\nTo learn more about this and other business networking opportunities\, <a href="http://www.ashlandoh.com/your-chamber/networking-opportunities/connection-groups" target="_blank"><strong>CLICK HERE</strong></a>
LOCATION:Downtown Perk & Dessert Oasis 145 W. Main St.\, Ashland\, Oh 44805
UID:e.1651.709
SEQUENCE:3
DTSTAMP:20260421T182329Z
URL:https://members.ashlandoh.com/events/details/ashland-area-business-connections-5-7-15-05-07-2015-709
END:VEVENT

END:VCALENDAR
