BEGIN:VCALENDAR
VERSION:2.0
PRODID:-//ChamberMaster//Event Calendar 2.0//EN
METHOD:PUBLISH
X-PUBLISHED-TTL:P3D
REFRESH-INTERVAL:P3D
CALSCALE:GREGORIAN
BEGIN:VEVENT
DTSTART:20160602T120000Z
DTEND:20160602T130000Z
X-MICROSOFT-CDO-ALLDAYEVENT:FALSE
SUMMARY:Ashland Area Business Connections 6-2-16
DESCRIPTION:Topic: Budgeting for success - Avoid the common mistakes\n\nSpeaker: Jim Hess - Whitcomb & Hess CPAs and Financial Advisors
X-ALT-DESC;FMTTYPE=text/html:<span style="font-size:16px\;"><span style="color: rgb(0\, 0\, 205)\;">Topic: Budgeting for success - Avoid the common mistakes</span></span><br />\n<span style="color:#A52A2A\;"><em>Speaker: Jim Hess - Whitcomb &amp\; Hess CPAs and Financial Advisors</em></span>
LOCATION:Downtown Perk 145 W Main St. Ashland OH 44805
UID:e.1651.2460
SEQUENCE:3
DTSTAMP:20260420T190657Z
URL:https://members.ashlandoh.com/events/details/ashland-area-business-connections-6-2-16-06-02-2016-2460
END:VEVENT

END:VCALENDAR
