BEGIN:VCALENDAR
VERSION:2.0
PRODID:-//ChamberMaster//Event Calendar 2.0//EN
METHOD:PUBLISH
X-PUBLISHED-TTL:P3D
REFRESH-INTERVAL:P3D
CALSCALE:GREGORIAN
BEGIN:VEVENT
DTSTART:20150604T120000Z
DTEND:20150604T130000Z
X-MICROSOFT-CDO-ALLDAYEVENT:FALSE
SUMMARY:Ashland Area Business Connections 6-4-15
DESCRIPTION:Topic: Finances & Money Management\n\nSpeaker: Tami Reynolds\, CPA - Whitcomb & Hess CPAs and Financial Advisors\n\n\n\nTo learn more about this and other business networking opportunities\, CLICK HERE
X-ALT-DESC;FMTTYPE=text/html:<span style="color:#0000CD\;"><em><span style="font-size: 14px\;"><strong>Topic: Finances &amp\; Money Management</strong></span></em></span><br />\n<span style="color:#0000CD\;"><span style="font-size: 12px\;"><em>Speaker: Tami Reynolds\, CPA - Whitcomb &amp\; Hess CPAs and Financial Advisors</em></span></span><br />\n<br />\nTo learn more about this and other business networking opportunities\, <a href="http://www.ashlandoh.com/your-chamber/networking-opportunities/connection-groups" target="_blank"><strong>CLICK HERE</strong></a>
LOCATION:Downtown Perk & Dessert Oasis 145 W. Main St.\, Ashland\, Oh 44805
UID:e.1651.710
SEQUENCE:3
DTSTAMP:20260421T163403Z
URL:https://members.ashlandoh.com/events/details/ashland-area-business-connections-6-4-15-06-04-2015-710
END:VEVENT

END:VCALENDAR
