BEGIN:VCALENDAR
VERSION:2.0
PRODID:-//ChamberMaster//Event Calendar 2.0//EN
METHOD:PUBLISH
X-PUBLISHED-TTL:P3D
REFRESH-INTERVAL:P3D
CALSCALE:GREGORIAN
BEGIN:VEVENT
DTSTART:20160707T120000Z
DTEND:20160707T130000Z
X-MICROSOFT-CDO-ALLDAYEVENT:FALSE
SUMMARY:Ashland Area Business Connections 7-7-16
DESCRIPTION:NO MEETING THIS MONTH - SEE YOU IN AUGUST!
X-ALT-DESC;FMTTYPE=text/html:<strong><span style="color:#B22222\;"><span style="font-size: 28px\;"><em>NO MEETING THIS MONTH - SEE YOU IN AUGUST!</em></span></span></strong>
LOCATION:Downtown Perk 145 W Main St. Ashland OH 44805
UID:e.1651.2461
SEQUENCE:3
DTSTAMP:20260420T190629Z
URL:https://members.ashlandoh.com/events/details/ashland-area-business-connections-7-7-16-07-07-2016-2461
END:VEVENT

END:VCALENDAR
