BEGIN:VCALENDAR
VERSION:2.0
PRODID:-//ChamberMaster//Event Calendar 2.0//EN
METHOD:PUBLISH
X-PUBLISHED-TTL:P3D
REFRESH-INTERVAL:P3D
CALSCALE:GREGORIAN
BEGIN:VEVENT
DTSTART:20160804T120000Z
DTEND:20160804T130000Z
X-MICROSOFT-CDO-ALLDAYEVENT:FALSE
SUMMARY:Ashland Area Business Connections 8-4-16
DESCRIPTION:Topic: Data Security - Are you really in control?\n\nSpeaker: Dan Allen - Palitto Consulting
X-ALT-DESC;FMTTYPE=text/html:<span style="font-size:16px\;"><span style="color: rgb(0\, 0\, 205)\;">Topic: Data Security - Are you really in control?</span></span><br />\n<span style="color:#A52A2A\;"><em>Speaker: Dan Allen - Palitto Consulting</em></span>
LOCATION:Downtown Perk 145 W Main St. Ashland OH 44805
UID:e.1651.2462
SEQUENCE:3
DTSTAMP:20260420T153333Z
URL:https://members.ashlandoh.com/events/details/ashland-area-business-connections-8-4-16-08-04-2016-2462
END:VEVENT

END:VCALENDAR
