BEGIN:VCALENDAR
VERSION:2.0
PRODID:-//ChamberMaster//Event Calendar 2.0//EN
METHOD:PUBLISH
X-PUBLISHED-TTL:P3D
REFRESH-INTERVAL:P3D
CALSCALE:GREGORIAN
BEGIN:VEVENT
DTSTART:20160901T120000Z
DTEND:20160901T130000Z
X-MICROSOFT-CDO-ALLDAYEVENT:FALSE
SUMMARY:Ashland Area Business Connections 9-1-16
DESCRIPTION:Topic: Insurance Options for Small Business\n\nSpeaker: Matt Tharp - Central Ohio Group
X-ALT-DESC;FMTTYPE=text/html:<span style="font-size:16px\;"><span style="color: rgb(0\, 0\, 205)\;">Topic: Insurance Options for Small Business</span></span><br />\n<span style="color:#A52A2A\;"><em>Speaker: Matt Tharp - Central Ohio Group</em></span>
LOCATION:Downtown Perk 145 W Main St. Ashland OH 44805
UID:e.1651.2463
SEQUENCE:3
DTSTAMP:20260420T153522Z
URL:https://members.ashlandoh.com/events/details/ashland-area-business-connections-9-1-16-09-01-2016-2463
END:VEVENT

END:VCALENDAR
