BEGIN:VCALENDAR
VERSION:2.0
PRODID:-//ChamberMaster//Event Calendar 2.0//EN
METHOD:PUBLISH
X-PUBLISHED-TTL:P3D
REFRESH-INTERVAL:P3D
CALSCALE:GREGORIAN
BEGIN:VEVENT
DTSTART:20150903T120000Z
DTEND:20150903T130000Z
X-MICROSOFT-CDO-ALLDAYEVENT:FALSE
SUMMARY:Ashland Area Business Connections 9-3-15
DESCRIPTION:Topic: Turning a Bad Experience Into a Positive\n\nSpeaker: Heather Herrick - Housekeeping by Heather & Company LLC\n\n\n\nTo learn more about this and other business networking opportunities\, CLICK HERE
X-ALT-DESC;FMTTYPE=text/html:<span style="color:#A52A2A\;"><span style="font-size: 14px\;"><em><strong>Topic: Turning a Bad Experience Into a Positive</strong><br />\nSpeaker: Heather Herrick - Housekeeping by Heather &amp\; Company LLC</em></span></span><br />\n<br />\nTo learn more about this and other business networking opportunities\, <a href="http://www.ashlandoh.com/your-chamber/networking-opportunities/connection-groups" target="_blank"><strong>CLICK HERE</strong></a>
LOCATION:Downtown Perk & Dessert Oasis 145 W. Main St.\, Ashland\, Oh 44805
UID:e.1651.713
SEQUENCE:3
DTSTAMP:20260421T130426Z
URL:https://members.ashlandoh.com/events/details/ashland-area-business-connections-9-3-15-09-03-2015-713
END:VEVENT

END:VCALENDAR
