BEGIN:VCALENDAR
VERSION:2.0
PRODID:-//ChamberMaster//Event Calendar 2.0//EN
METHOD:PUBLISH
X-PUBLISHED-TTL:P3D
REFRESH-INTERVAL:P3D
CALSCALE:GREGORIAN
BEGIN:VEVENT
DTSTART:20151217T130000Z
DTEND:20151217T140000Z
X-MICROSOFT-CDO-ALLDAYEVENT:FALSE
SUMMARY:Ashland Area Business Connections and Member To Member Marketing
DESCRIPTION:AABC - MEMBER TO MEMBER MARKETING\n\nDo you need to work on your "Elevator Speech/Marketing-in-a-Minute"? This small group of important local business people is the perfect venue for you. Polish your marketing techniques while enjoying candid conversation and discussion on the current topics and connect with others who want to run a successful business in their community.\n\n \n\nCome prepared to talk about your business\, learn some valuable tips and participate in networking at its finest. Looking forward to seeing you there!\n\nEVENT DETAILS:
X-ALT-DESC;FMTTYPE=text/html:<span style="color:#0000CD\;"><span style="font-size: 16px\;"><strong>AABC - MEMBER TO MEMBER MARKETING</strong></span></span><br />\n<span style="font-size:12px\;">Do you need to work on your &ldquo\;Elevator Speech/Marketing-in-a-Minute&rdquo\;? This small group of important local business people is the perfect venue for you. Polish your marketing techniques while enjoying candid conversation and discussion on the current topics and connect with others who want to run a successful business in their community.<br />\n&nbsp\;<br />\nCome prepared to talk about your business\, learn some valuable tips and participate in networking at its finest. Looking forward to seeing you there!</span><br />\n<span style="color:#0000CD\;"><u><strong>EVENT DETAILS:</strong></u></span>
LOCATION:Downtown Perk & Dessert Oasis 145 W Main St.\, Ashland OH 44805
UID:e.1651.1553
SEQUENCE:3
DTSTAMP:20260421T060216Z
URL:https://members.ashlandoh.com/events/details/ashland-area-business-connections-and-member-to-member-marketing-12-17-2015-1553
END:VEVENT

END:VCALENDAR
