BEGIN:VCALENDAR
VERSION:2.0
PRODID:-//ChamberMaster//Event Calendar 2.0//EN
METHOD:PUBLISH
X-PUBLISHED-TTL:P3D
REFRESH-INTERVAL:P3D
CALSCALE:GREGORIAN
BEGIN:VEVENT
DTSTART:20140428T220000Z
DTEND:20140428T233000Z
X-MICROSOFT-CDO-ALLDAYEVENT:FALSE
SUMMARY:Ashland City Schools - Groundbreaking Ceremony 4-28-14
DESCRIPTION:Come and Celebrate the start of a new building project for the Ashland City Schools!
X-ALT-DESC;FMTTYPE=text/html:Come and Celebrate the start of a new building project for the Ashland City Schools!
LOCATION:TBD
UID:e.1651.1470
SEQUENCE:3
DTSTAMP:20260422T162537Z
URL:https://members.ashlandoh.com/events/details/ashland-city-schools-groundbreaking-ceremony-4-28-14-04-28-2014-1470
END:VEVENT

END:VCALENDAR
