BEGIN:VCALENDAR
VERSION:2.0
PRODID:-//ChamberMaster//Event Calendar 2.0//EN
METHOD:PUBLISH
X-PUBLISHED-TTL:P3D
REFRESH-INTERVAL:P3D
CALSCALE:GREGORIAN
BEGIN:VEVENT
DTSTART:20170321T140000Z
DTEND:20170321T143000Z
X-MICROSOFT-CDO-ALLDAYEVENT:FALSE
SUMMARY:Ashland County Cancer Association - Ribbon Cutting 3-21-17
DESCRIPTION:Join us for a Ribbon Cutting celebrating our new location. \n\n\n\nEvent Details:\n\nDate: Tuesday\, March 21\, 2017\n\nTime: 10:00 AM\n\nLocation: 1011 E Main St. Suite B\, Ashland\, OH 44805\n\nBring: Congrats and your business cards
X-ALT-DESC;FMTTYPE=text/html:<strong>Join us for a Ribbon Cutting celebrating our new location. </strong><br />\n<br />\n<strong>Event Details:</strong><br />\n<span style="color:#FF0000\;"><strong>Date: Tuesday\, March 21\, 2017</strong></span><br />\nTime:<span style="color:#FFD700\;"> </span><strong><span style="color:#FF0000\;">10:00 AM</span></strong><br />\nLocation: 1011 E Main St. Suite B\, Ashland\, OH 44805<br />\nBring: Congrats and your business cards
LOCATION:1011 E Main St. Suite B Ashland OH 44805
UID:e.1651.4295
SEQUENCE:3
DTSTAMP:20260420T034525Z
URL:https://members.ashlandoh.com/events/details/ashland-county-cancer-association-ribbon-cutting-3-21-17-4295
END:VEVENT

END:VCALENDAR
