BEGIN:VCALENDAR
VERSION:2.0
PRODID:-//ChamberMaster//Event Calendar 2.0//EN
METHOD:PUBLISH
X-PUBLISHED-TTL:P3D
REFRESH-INTERVAL:P3D
CALSCALE:GREGORIAN
BEGIN:VEVENT
DTSTART:20160922T153000Z
DTEND:20160922T160000Z
X-MICROSOFT-CDO-ALLDAYEVENT:FALSE
SUMMARY:Ashland County Court - New Entry Ribbon Cutting 9-22-16
DESCRIPTION:Come and join us as we celebrate the completion of the Stairs and Front Entry of the Courthouse.
X-ALT-DESC;FMTTYPE=text/html:<strong>Come and join us as we celebrate the completion of the Stairs and Front Entry of the Courthouse.</strong>
LOCATION:Ashland County Courthouse 142 W Second St. Ashland OH 44805
UID:e.1651.4183
SEQUENCE:3
DTSTAMP:20260420T140520Z
URL:https://members.ashlandoh.com/events/details/ashland-county-court-new-entry-ribbon-cutting-9-22-16-4183
END:VEVENT

END:VCALENDAR
