BEGIN:VCALENDAR
VERSION:2.0
PRODID:-//ChamberMaster//Event Calendar 2.0//EN
METHOD:PUBLISH
X-PUBLISHED-TTL:P3D
REFRESH-INTERVAL:P3D
CALSCALE:GREGORIAN
BEGIN:VEVENT
DTSTART:20170311T143000Z
DTEND:20170311T150000Z
X-MICROSOFT-CDO-ALLDAYEVENT:FALSE
SUMMARY:Ashland CVB - Ribbon Cutting 3-11-17
DESCRIPTION:Come and join us as we celebrate the Ashland Area Convention and Visitors Bureau's 20th Anniversary. Meet Amy Daubenspeck\, Executive Director and others from her Advisory Council. \n\n\n\nEvent Details:\n\nWhat: Ribbon Cutting\n\nDate: Saturday\, March 11\, 2017\n\nTime: 9:30 am sharp\n\nFeel free to stay for the Cabin Fever Festival beginning at 10:00 am\n\nLocation: Salvation Army Kroc Center - 527 E. Liberty St.\, Ashland\n\nBring: Your congrats!
X-ALT-DESC;FMTTYPE=text/html:<strong>Come and join us as we celebrate the Ashland Area Convention and Visitors Bureau&#39\;s 20th Anniversary. Meet Amy Daubenspeck\, Executive Director and others from her Advisory Council. </strong><br />\n<br />\n<span style="color:#0000CD\;"><u><strong>Event Details:</strong></u></span><br />\n<strong>What:</strong> Ribbon Cutting<br />\n<strong>Date:</strong> Saturday\, March 11\, 2017<br />\n<strong>Time:</strong> 9:30 am sharp<br />\n<em>Feel free to stay for the Cabin Fever Festival beginning at 10:00 am</em><br />\n<strong>Location:</strong> Salvation Army Kroc Center - 527 E. Liberty St.\, Ashland<br />\n<strong>Bring:</strong> Your congrats!
LOCATION:The Ashland Salvation Army Kroc Center 527 E. Liberty St.\, Ashland OH 44805
UID:e.1651.4296
SEQUENCE:3
DTSTAMP:20260420T053433Z
URL:https://members.ashlandoh.com/events/details/ashland-cvb-ribbon-cutting-3-11-17-4296
END:VEVENT

END:VCALENDAR
