BEGIN:VCALENDAR
VERSION:2.0
PRODID:-//ChamberMaster//Event Calendar 2.0//EN
METHOD:PUBLISH
X-PUBLISHED-TTL:P3D
REFRESH-INTERVAL:P3D
CALSCALE:GREGORIAN
BEGIN:VEVENT
DTSTART:20141015T140000Z
DTEND:20141015T160000Z
X-MICROSOFT-CDO-ALLDAYEVENT:FALSE
SUMMARY:Ashland Safety Council Bonus Meeting 10-15-14
DESCRIPTION:TOPIC: Emergency Action Plans Hazard Communication/GHS  \n\nWhat is Left to Do? (1 Hour)\n\n\n\nLife Safety Code \n\nCan You See to Get Out? (1 Hour)\n\n\n\nPresentation will include Emergency Action Plans & the Life Safety Code requirements often missed.\n\n Weds.\, October 15\n\n10:00am-12:00 pm\n\nCareWorks?2 hour training session Open to other Safety Councils. Meets your 2-hour mandatory training requirement.\n\n \n\nSpeaker: \n\nMark A. Alexander\, CSP\, CHSP\, NREMT-B Safety & Risk Consultant RiskControl360
X-ALT-DESC;FMTTYPE=text/html:<p><span style="font-weight:bold\;language:en-US\;"><span style="color:black\;"><span style="font-family:calibri\;"><span style="font-size:14.0pt\;">TOPIC: Emergency Action Plans</span></span></span></span> <span style="font-weight:bold\;language:en-US\;"><span style="color:black\;"><span style="font-family:calibri\;"><span style="font-size:14.0pt\;">Hazard Communication/GHS&nbsp\; </span></span></span></span><br>\n<span style="language:en-US\;"><span style="color:black\;"><span style="font-family:calibri\;"><span style="font-size:14.0pt\;">What is Left to Do? (1 Hour)</span></span></span></span></p>\n\n<p><br>\n<span style="font-weight:bold\;language:en-US\;"><span style="color:black\;"><span style="font-family:calibri\;"><span style="font-size:14.0pt\;">Life Safety Code </span></span></span></span><br>\n<span style="language:en-US\;"><span style="color:black\;"><span style="font-family:calibri\;"><span style="font-size:14.0pt\;">Can You See to Get Out? (1 Hour)</span></span></span></span><br>\n<br>\n<span style="language:en-US\;"><span style="color:black\;"><span style="font-family:calibri\;"><span style="font-size:14.0pt\;">Presentation </span></span></span></span><span style="language:en-US\;"><span style="color:black\;"><span style="font-family:calibri\;"><span style="font-size:14.0pt\;">will include Emergency Action Plans &amp\; the Life Safety Code requirements often missed.</span></span></span></span><br>\n&nbsp\;<span style="font-weight:bold\;language:en-US\;"><span style="color:black\;"><span style="font-family:calibri\;"><span style="font-size:18.0pt\;">Weds.\, October 15</span></span></span></span><br>\n<span style="font-weight:bold\;language:en-US\;"><span style="color:black\;"><span style="font-family:calibri\;"><span style="font-size:12.0pt\;">10:00am-12:00 pm</span></span></span></span><br>\n<span style="font-weight:bold\;language:en-US\;"><span style="color:black\;"><span style="font-family:calibri\;"><span style="font-size:14.0pt\;">CareWorks?2 hour training session Open to other Safety Councils. Meets your 2-hour mandatory training requirement.</span></span></span></span><br>\n<span style="font-weight:bold\;language:en-US\;"><span style="color:black\;"><span style="font-family:calibri\;"><span style="font-size:14.0pt\;">&nbsp\;<br>\nSpeaker: </span></span></span></span><br>\n<span style="language:en-US\;"><span style="color:black\;"><span style="font-family:calibri\;"><span style="font-size:14.0pt\;">Mark A. Alexander\, CSP\, CHSP\, NREMT-B Safety &amp\; Risk Consultant RiskControl360 </span></span></span></span><br>\n&nbsp\;<br>\n&nbsp\;</p>\n
LOCATION:The Salvation Army Ray & Joan Kroc Corps Community Center (Ashland Kroc Center) Community Room 527 E. Liberty Street\, Ashland OH
UID:e.1651.1491
SEQUENCE:3
DTSTAMP:20260422T060923Z
URL:https://members.ashlandoh.com/events/details/ashland-safety-council-bonus-meeting-10-15-14-10-15-2014-1491
END:VEVENT

END:VCALENDAR
