BEGIN:VCALENDAR
VERSION:2.0
PRODID:-//ChamberMaster//Event Calendar 2.0//EN
METHOD:PUBLISH
X-PUBLISHED-TTL:P3D
REFRESH-INTERVAL:P3D
CALSCALE:GREGORIAN
BEGIN:VEVENT
DTSTART:20171010T130000Z
DTEND:20171010T150000Z
X-MICROSOFT-CDO-ALLDAYEVENT:FALSE
SUMMARY:Ashland Safety Council CPR Class
DESCRIPTION:American Heart Association HEARTSAVER CPR AED Class
X-ALT-DESC;FMTTYPE=text/html:<p>American Heart Association HEARTSAVER CPR AED Class</p>\n
LOCATION:Ashland Fire Department
UID:e.1651.5367
SEQUENCE:3
DTSTAMP:20260419T154621Z
URL:https://members.ashlandoh.com/events/details/ashland-safety-council-cpr-class-5367
END:VEVENT

END:VCALENDAR
