BEGIN:VCALENDAR
VERSION:2.0
PRODID:-//ChamberMaster//Event Calendar 2.0//EN
METHOD:PUBLISH
X-PUBLISHED-TTL:P3D
REFRESH-INTERVAL:P3D
CALSCALE:GREGORIAN
BEGIN:VEVENT
DTSTART:20171012T170000Z
DTEND:20171012T190000Z
X-MICROSOFT-CDO-ALLDAYEVENT:FALSE
SUMMARY:Ashland Safety Council CPR Class Afternoon
DESCRIPTION:American Heart Association Heartsaver CPR AED Class
X-ALT-DESC;FMTTYPE=text/html:American Heart Association Heartsaver CPR AED Class<br />\n&nbsp\;
LOCATION:Ashland Fire Department
UID:e.1651.5368
SEQUENCE:3
DTSTAMP:20260419T154730Z
URL:https://members.ashlandoh.com/events/details/ashland-safety-council-cpr-class-afternoon-5368
END:VEVENT

END:VCALENDAR
