BEGIN:VCALENDAR
VERSION:2.0
PRODID:-//ChamberMaster//Event Calendar 2.0//EN
METHOD:PUBLISH
X-PUBLISHED-TTL:P3D
REFRESH-INTERVAL:P3D
CALSCALE:GREGORIAN
BEGIN:VEVENT
DTSTART:20171108T150000Z
DTEND:20171108T170000Z
X-MICROSOFT-CDO-ALLDAYEVENT:FALSE
SUMMARY:Ashland SC - Safety Program Development - It's More Than Just Safety
DESCRIPTION:Safety Program Development - It's more than just Safety + OSHA Update\n\n\n\nRisk Control 360 speaker\, Jim Wirth\n\n\n\nThis will qualifies as an outside training class and can apply towards the  2-hour required training.
X-ALT-DESC;FMTTYPE=text/html:<p>Safety Program Development - It&#39\;s more than just Safety + OSHA Update<br />\n<br />\nRisk Control 360 speaker\, Jim Wirth<br />\n<br />\nThis will qualifies as an outside training class and can apply towards the&nbsp\; 2-hour required training.</p>\n
LOCATION:Samaritan on Main
UID:e.1651.5369
SEQUENCE:3
DTSTAMP:20260419T134823Z
URL:https://members.ashlandoh.com/events/details/ashland-sc-safety-program-development-it-s-more-than-just-safety-5369
END:VEVENT

END:VCALENDAR
